BEGIN:VCALENDAR
VERSION:2.0
PRODID:-//139.99.166.240//NONSGML kigkonsult.se iCalcreator 2.24.2//
CALSCALE:GREGORIAN
METHOD:PUBLISH
X-WR-CALNAME:Gympie Wesleyan Methodist Church
X-WR-CALDESC:
X-FROM-URL:http://gympie.wesleyan.org.au
X-WR-TIMEZONE:Australia/Brisbane
BEGIN:VTIMEZONE
TZID:Australia/Brisbane
X-LIC-LOCATION:Australia/Brisbane
BEGIN:STANDARD
DTSTART:19920301T030000
TZOFFSETFROM:+1100
TZOFFSETTO:+1000
TZNAME:AEST
END:STANDARD
END:VTIMEZONE
BEGIN:VEVENT
UID:ai1ec-219@gympie.wesleyan.org.au
DTSTAMP:20200229T014809Z
CATEGORIES:
CONTACT:
DESCRIPTION:
DTSTART;TZID=Australia/Brisbane:20181225T080000
DTEND;TZID=Australia/Brisbane:20181225T090000
RDATE;TZID=Australia/Brisbane:20181225T080000
SEQUENCE:0
SUMMARY:CHRISTMAS DAY
URL:http://gympie.wesleyan.org.au/event/christmas-day/
X-COST-TYPE:free
END:VEVENT
END:VCALENDAR
